BEGIN:VCALENDAR
VERSION:2.0
PRODID:-//Confindustria Basilicata - ECPv6.11.2.1//NONSGML v1.0//EN
CALSCALE:GREGORIAN
METHOD:PUBLISH
X-WR-CALNAME:Confindustria Basilicata
X-ORIGINAL-URL:https://www.confindustria.basilicata.it
X-WR-CALDESC:Eventi per Confindustria Basilicata
REFRESH-INTERVAL;VALUE=DURATION:PT1H
X-Robots-Tag:noindex
X-PUBLISHED-TTL:PT1H
BEGIN:VTIMEZONE
TZID:Europe/Helsinki
BEGIN:DAYLIGHT
TZOFFSETFROM:+0200
TZOFFSETTO:+0300
TZNAME:EEST
DTSTART:20210328T010000
END:DAYLIGHT
BEGIN:STANDARD
TZOFFSETFROM:+0300
TZOFFSETTO:+0200
TZNAME:EET
DTSTART:20211031T010000
END:STANDARD
END:VTIMEZONE
BEGIN:VEVENT
DTSTART;TZID=Europe/Helsinki:20210604T150000
DTEND;TZID=Europe/Helsinki:20210604T173000
DTSTAMP:20260419T163205
CREATED:20210601T124950Z
LAST-MODIFIED:20210601T124950Z
UID:1885-1622818800-1622827800@www.confindustria.basilicata.it
SUMMARY:Made in Italy: vaccino o placebo
DESCRIPTION:
URL:https://www.confindustria.basilicata.it/event/made-in-italy-vaccino-o-placebo/
END:VEVENT
BEGIN:VEVENT
DTSTART;TZID=Europe/Helsinki:20210618T093000
DTEND;TZID=Europe/Helsinki:20210618T110000
DTSTAMP:20260419T163205
CREATED:20210611T161603Z
LAST-MODIFIED:20210611T161603Z
UID:2019-1624008600-1624014000@www.confindustria.basilicata.it
SUMMARY:La Basilicata riparte dalle imprese
DESCRIPTION:IL PROGRAMMA 
URL:https://www.confindustria.basilicata.it/event/la-basilicata-riparte-dalle-imprese/
END:VEVENT
BEGIN:VEVENT
DTSTART;TZID=Europe/Helsinki:20210630T120000
DTEND;TZID=Europe/Helsinki:20210630T133000
DTSTAMP:20260419T163205
CREATED:20210629T080434Z
LAST-MODIFIED:20210629T080518Z
UID:2145-1625054400-1625059800@www.confindustria.basilicata.it
SUMMARY:Il turismo post Covid: digital talk della rivista Orizzonti
DESCRIPTION:
URL:https://www.confindustria.basilicata.it/event/il-turismo-post-covid-digital-talk-della-rivista-orizzonti/
END:VEVENT
END:VCALENDAR