BEGIN:VCALENDAR
VERSION:2.0
PRODID:-//Confindustria Basilicata - ECPv6.11.2.1//NONSGML v1.0//EN
CALSCALE:GREGORIAN
METHOD:PUBLISH
X-ORIGINAL-URL:https://www.confindustria.basilicata.it
X-WR-CALDESC:Eventi per Confindustria Basilicata
REFRESH-INTERVAL;VALUE=DURATION:PT1H
X-Robots-Tag:noindex
X-PUBLISHED-TTL:PT1H
BEGIN:VTIMEZONE
TZID:Europe/Helsinki
BEGIN:DAYLIGHT
TZOFFSETFROM:+0200
TZOFFSETTO:+0300
TZNAME:EEST
DTSTART:20210328T010000
END:DAYLIGHT
BEGIN:STANDARD
TZOFFSETFROM:+0300
TZOFFSETTO:+0200
TZNAME:EET
DTSTART:20211031T010000
END:STANDARD
END:VTIMEZONE
BEGIN:VEVENT
DTSTART;TZID=Europe/Helsinki:20210515T100000
DTEND;TZID=Europe/Helsinki:20210515T130000
DTSTAMP:20260419T180233
CREATED:20210510T092222Z
LAST-MODIFIED:20210510T092222Z
UID:1621-1621072800-1621083600@www.confindustria.basilicata.it
SUMMARY:QUALI PROSPETTIVE DOPO IL COVID-19: WEBINAR CON IL PAST PRESIDENT BOCCIA
DESCRIPTION:Homepage
URL:https://www.confindustria.basilicata.it/event/quali-prospettive-dopo-il-covid-19-webinar-con-il-past-president-boccia/
LOCATION:Piattaforma Zoom
END:VEVENT
BEGIN:VEVENT
DTSTART;TZID=Europe/Helsinki:20210520T150000
DTEND;TZID=Europe/Helsinki:20210520T170000
DTSTAMP:20260419T180233
CREATED:20210518T110050Z
LAST-MODIFIED:20210518T110644Z
UID:1738-1621522800-1621530000@www.confindustria.basilicata.it
SUMMARY:Superbonus 110%: webinar di presentazione della piattaforma EY per la certificazione dei crediti fiscali
DESCRIPTION:
URL:https://www.confindustria.basilicata.it/event/superbonus-110-webinar-di-presentazione-della-piattaforma-ey-per-la-certificazione-dei-crediti-fiscali/
END:VEVENT
END:VCALENDAR