BEGIN:VCALENDAR
VERSION:2.0
PRODID:-//Confindustria Basilicata - ECPv6.11.2.1//NONSGML v1.0//EN
CALSCALE:GREGORIAN
METHOD:PUBLISH
X-ORIGINAL-URL:https://www.confindustria.basilicata.it
X-WR-CALDESC:Eventi per Confindustria Basilicata
REFRESH-INTERVAL;VALUE=DURATION:PT1H
X-Robots-Tag:noindex
X-PUBLISHED-TTL:PT1H
BEGIN:VTIMEZONE
TZID:Europe/Helsinki
BEGIN:DAYLIGHT
TZOFFSETFROM:+0200
TZOFFSETTO:+0300
TZNAME:EEST
DTSTART:20210328T010000
END:DAYLIGHT
BEGIN:STANDARD
TZOFFSETFROM:+0300
TZOFFSETTO:+0200
TZNAME:EET
DTSTART:20211031T010000
END:STANDARD
END:VTIMEZONE
BEGIN:VEVENT
DTSTART;TZID=Europe/Helsinki:20210430T100000
DTEND;TZID=Europe/Helsinki:20210430T130000
DTSTAMP:20260419T192940
CREATED:20210427T114203Z
LAST-MODIFIED:20210427T114306Z
UID:1268-1619776800-1619787600@www.confindustria.basilicata.it
SUMMARY:Valutazione stato di salute delle imprese\, webinar di CCIAA
DESCRIPTION:PROGRAMMA
URL:https://www.confindustria.basilicata.it/event/valutazione-stato-di-salute-delle-imprese-webinar-di-cciaa/
END:VEVENT
END:VCALENDAR